BEGIN:VCALENDAR
VERSION:2.0
PRODID:-//https://www.fondazionedozza.it///NONSGML kigkonsult.se iCalcreator 2.10.15//
METHOD:PUBLISH
BEGIN:VEVENT
UID:20260422T011438CEST-01302lJdDU@https://www.fondazionedozza.it/
DTSTAMP:20260421T231438Z
DESCRIPTION:CHRONOS\nil tempo nascosto\nDal 18 ottobre 2025 all'1 febbraio 
 2026\nCOMUNICATO STAMPA\nLa Fondazione Dozza Città d'Arte è lieta di prese
 ntare la mostra 'CHRONOS - il tempo nascosto'\, personale dell'artista Ana
  Cecilia Hillar a cura di Agnese Tonelli e&nbsp\;in collaborazione con Gal
 leria Lara &amp\; Rino Costa Arte Contemporanea.\nInaugurazione: sabato 18
  ottobre 2025 alle ore 17 presso il Museo Rocca di Dozza (BO).\nIngresso l
 ibero fino a esaurimento posti.\nDal 19 ottobre 2025 al 1° febbraio 2026 l
 a visita alla mostra è compresa nel biglietto d'ingresso del Museo della R
 occa.\nBreve descrizione:\nChronos\, il tempo nascosto è uno spazio di asc
 olto e rivelazione: un invito a ritrovare quel battito profondo che attrav
 ersa la materia e la memoria.\n&nbsp\;\n\nMostra sponsorizzata dal Consorz
 io Con.AMI\n\n* Orari e programmi potranno subire variazioni per le quali 
 occorre contattare il soggetto organizzatore. https://www.fondazionedozza.
 it/programma-eventi/eventi-spettacoli-alla-rocca-di-dozza-2/Eventi/805-chr
 onos-il-tempo-nascosto.html
DTSTART:20251018T170000Z
DTEND:20260201T180000Z
LOCATION:Rocca di Dozza (Piazzale Rocca\, 40060 Dozza BO\, Italia)
SUMMARY:CHRONOS. IL TEMPO NASCOSTO
URL:https://www.fondazionedozza.it/programma-eventi/eventi-spettacoli-alla-
 rocca-di-dozza-2/Eventi/805-chronos-il-tempo-nascosto.html
END:VEVENT
END:VCALENDAR
