BEGIN:VCALENDAR
VERSION:2.0
PRODID:-//https://www.fondazionedozza.it///NONSGML kigkonsult.se iCalcreator 2.10.15//
METHOD:PUBLISH
BEGIN:VEVENT
UID:20260422T110958CEST-6478c9wufc@https://www.fondazionedozza.it/
DTSTAMP:20260422T090958Z
DESCRIPTION:FRITTI MISTICI\n15 febbraio 2026 alle ore 17 presso il Teatro C
 omunale di Dozza\n\nIl direttore artistico Davide Dalfiume e la Bottega de
 l Buonumore APS sono lieti di presentare la rassegna teatrale 2026.&nbsp\;
 \nProgetto Guglielmo Marconi\, Comune Immortale 2024–2027\, ideato dalle A
 ssociazioni Vitruvio Bologna e Vitruvio Barcelona con il patrocinio dell’A
 ssemblea Legislativa della Regione Emilia-Romagna\, dalla Città Metropolit
 ana di Bologna\, dal Comune di Sasso Marconi e dalla Fondazione Guglielmo 
 Marconi\, in collaborazione con importanti realtà italiane e catalane\, al
  fine di promuovere e divulgare l’affascinante storia del geniale inventor
 e bolognese.\n\nCABARET&nbsp\; &nbsp\; &nbsp\;&nbsp\;\n\nDomenica 15 febbr
 aio 2026 alle ore 17.00\n'FRITTI MISTICI'\ndi e con&nbsp\;Sergio Casabianc
 a\nIl musicista canta-attore riminese si è avvicinato al mondo del cabaret
  raccontando le tradizioni romagnole in uno spettacolo gustoso e divertent
 e.\nBIGLIETTI E ABBONAMENTI\nAbbonamento&nbsp\;stagione 2026 (4 spettacoli
 ): &nbsp\;€ 45\,00\nIn vendita direttamente in teatro domenica 7 dicembre 
 dalle ore 10.00 alle ore 12.00.\nBiglietto\nIntero € 14\,00\nRidotto: € 12
 \,00 (riduzioni riservate a over 65 - under 25 - Univ. Aperta Imola)\nInfo
 rmazioni e prenotazioni: 353 4045498\nBiglietteria aperta nelle sole giorn
 ate di spettacolo dalle ore 16.00 alle ore 17.00.\nVendita on line sul cir
 cuito vivaticket dal 2 gennaio 2026.\nIl programma potrà subire variazioni
  per cause indipendenti dalla volontà della Direzione o per forza maggiore
 . Aggiornamenti saranno comunicati tramite stampa\, web e bacheca del teat
 ro\nSito: www.labottegadelbuonumore.it\n* Orari e programmi potranno subir
 e variazioni per le quali occorre contattare il soggetto organizzatore.\n 
 https://www.fondazionedozza.it/programma-eventi/eventi-spettacoli-alla-roc
 ca-di-dozza-2/Eventi/852-fritti-mistici.html
DTSTART:20260215T170000Z
DTEND:20260215T190000Z
LOCATION:Teatro comunale di Dozza ()
SUMMARY:FRITTI MISTICI
URL:https://www.fondazionedozza.it/programma-eventi/eventi-spettacoli-alla-
 rocca-di-dozza-2/Eventi/852-fritti-mistici.html
END:VEVENT
END:VCALENDAR
