BEGIN:VCALENDAR
VERSION:2.0
PRODID:-//https://www.fondazionedozza.it///NONSGML kigkonsult.se iCalcreator 2.10.15//
METHOD:PUBLISH
BEGIN:VEVENT
UID:20260420T110112CEST-1020GRt52F@https://www.fondazionedozza.it/
DTSTAMP:20260420T090112Z
DESCRIPTION:CARNEVALE DEI BAMBINI\nSabato 21 febbraio 2026 dalle ore 14:30 
 in Piazza Libertà a Toscanella\n\nL'Associazione di Volontariato Culturale
  'Incontri' è lieta di invitarvi alla Festa di carnevale dei bambini previ
 sta sabato 21 febbraio alle ore 14:30 in Piazza Libertà a Toscanella.\nPro
 gramma:\nGiochi\, Concorso a premi “I più bei Costumi di Carnevale 2026” a
  tema “L'Era Glaciale in Love”. Esibizione di Ballo\, Esibizione Musicale\
 , Laboratori Creativi\, Sfilata\, Letture a tema\, Truccabimbi\,&nbsp\;Are
 a giochi con Gonfiabile e Jumping. Merenda sia per i grandi che per i picc
 oli.\nSito e contatti organizzatore:&nbsp\;\nincontridozzesi@gmail.com&nbs
 p\;-&nbsp\;Pagina Facebook: Incontri - Associazione di Volontariato Cultur
 ale\n\n&nbsp\;\n* Orari e programmi potranno subire variazioni per le qual
 i occorre contattare il soggetto organizzatore.\n https://www.fondazionedo
 zza.it/programma-eventi/eventi-spettacoli-alla-rocca-di-dozza-2/Eventi/858
 -carnevale-dei-bambini.html
DTSTART:20260221T143000Z
DTEND:20260221T180000Z
LOCATION:Piazza Libertà\, Toscanella ()
SUMMARY:CARNEVALE DEI BAMBINI
URL:https://www.fondazionedozza.it/programma-eventi/eventi-spettacoli-alla-
 rocca-di-dozza-2/Eventi/858-carnevale-dei-bambini.html
END:VEVENT
END:VCALENDAR
