BEGIN:VCALENDAR
VERSION:2.0
PRODID:-//https://www.fondazionedozza.it///NONSGML kigkonsult.se iCalcreator 2.10.15//
METHOD:PUBLISH
BEGIN:VEVENT
UID:20260420T105636CEST-5323ovxNjj@https://www.fondazionedozza.it/
DTSTAMP:20260420T085636Z
DESCRIPTION:LA SFRAPPOLATA\nDomenica 15 febbraio 2026 dalle ore 11 in Piazz
 a Zotti a Dozza\n\nLa Proloco di Dozza è lieta di presentare 'La Sfrappola
 ta'\,&nbsp\;stand gastronomico con sfrappole e altri dolci di Carnevale\, 
 piadine\, vini del territorio\, brulé e caldarroste presso Piazza Zotti a 
 Dozza.\n- Ore 11:00 Apertura stand gastronomico\n- Ore 14:30 Spettacolo di
  magia e clowneria col 'Duo Jenny &amp\; Claude'\nIn collaborazione con Gr
 uppo Arzdore di Dozza e il Gruppo Alpini di Dozza.\nInfo:&nbsp\;prolocodoz
 za@gmail.com&nbsp\;-&nbsp\;Riccardo 3407870961.\n&nbsp\;\n\n* Orari e prog
 rammi potranno subire variazioni per le quali occorre contattare il sogget
 to organizzatore. https://www.fondazionedozza.it/programma-eventi/eventi-s
 pettacoli-alla-rocca-di-dozza-2/Eventi/863-la-sfrappolata.html
DTSTART:20260215T110000Z
DTEND:20260215T180000Z
LOCATION:Piazza Zotti\, Dozza ()
SUMMARY:LA SFRAPPOLATA
URL:https://www.fondazionedozza.it/programma-eventi/eventi-spettacoli-alla-
 rocca-di-dozza-2/Eventi/863-la-sfrappolata.html
END:VEVENT
END:VCALENDAR
