BEGIN:VCALENDAR
VERSION:2.0
PRODID:-//https://www.fondazionedozza.it///NONSGML kigkonsult.se iCalcreator 2.10.15//
METHOD:PUBLISH
BEGIN:VEVENT
UID:20260422T144538CEST-3219O3demi@https://www.fondazionedozza.it/
DTSTAMP:20260422T124538Z
DESCRIPTION:IL GRANDE ESODO DA FIUME\nDal 7 al 15 febbraio 2026 al Museo Ro
 cca di Dozza\n\nLa Fondazione Dozza Città d'Arte è lieta di presentare 'IL
  GRANDE ESODO DA FIUME'\,&nbsp\;mostra documentaristica a cura di Tiziano 
 Bellini in occasione del Giorno del Ricordo 2026.\nIngresso libero per i r
 esidenti del Comune di Dozza e i tesserati A.N.V.G.D. Bologna.\nLa mostra 
 storica di Tiziano Bellini\, figlio di esule\, dopo il successo avuto nel 
 suo paese Castelvetro\, è stata successivamente esposta a Padova\, Torino\
 , Bologna e Pistoia.&nbsp\;La mostra documentaria racconta quell'emigra­zi
 one forzata della maggioranza dei cittadini di nazionalità e di lingua ita
 liana dalla Venezia Giulia\, dal Quarnaro e dalla Dalmazia\, che si verifi
 cò a partire dal 1945\, alla fine della Seconda guerra mondiale\, per tutt
 o il decennio successivo.&nbsp\;In questo esodo sono stati coinvolti i fam
 igliari dello stesso Bellini\, che ha eseguito una ricerca minuziosa\, dur
 ata quasi due anni e che lo ha impegnato per circa 2300 ore di lavoro\, pr
 oducendo 34 pannelli esplicativi con foto d'epoca e didascalie su questo p
 eriodo della storia italiana spesso e colpevolmente dimenticato.\n\n\n&nbs
 p\;\nL'iniziativa\, in collaborazione con il Comitato Provinciale di Bolog
 na dell’A.N.V.G.D.\, rientra nel cartellone di attività promosso dal Comun
 e di Dozza e dalla rete territoriale in occasione del Giorno del Ricordo 2
 026.\nInfo: rocca@comune.dozza.bo.it&nbsp\;- 0542 678240\n\n&nbsp\;\n* Ora
 ri e programmi potranno subire variazioni per le quali occorre contattare 
 il soggetto organizzatore. https://www.fondazionedozza.it/programma-eventi
 /eventi-spettacoli-alla-rocca-di-dozza-2/Eventi/865-il-grande-esodo-da-fiu
 me.html
DTSTART:20260207T100000Z
DTEND:20260215T180000Z
LOCATION:Rocca di Dozza (Piazzale Rocca\, 40060 Dozza BO\, Italia)
SUMMARY:IL GRANDE ESODO DA FIUME
URL:https://www.fondazionedozza.it/programma-eventi/eventi-spettacoli-alla-
 rocca-di-dozza-2/Eventi/865-il-grande-esodo-da-fiume.html
END:VEVENT
END:VCALENDAR
