BEGIN:VCALENDAR
VERSION:2.0
PRODID:-//https://www.fondazionedozza.it///NONSGML kigkonsult.se iCalcreator 2.10.15//
METHOD:PUBLISH
BEGIN:VEVENT
UID:20260420T110550CEST-7240VePRhn@https://www.fondazionedozza.it/
DTSTAMP:20260420T090550Z
DESCRIPTION:PRESENTAZIONE DEL GEMELLO DIGITALE\ndel Borgo di Dozza e del Mu
 seo della Rocca\nMartedì 24 febbraio alle ore 17 presso il Museo Rocca di 
 Dozza\n&nbsp\;\n\n&nbsp\;\n\n* Orari e programmi potranno subire variazion
 i per le quali occorre contattare il soggetto organizzatore. https://www.f
 ondazionedozza.it/programma-eventi/eventi-spettacoli-alla-rocca-di-dozza-2
 /Eventi/870-presentazione-del-gemello-digitale-del-borgo-di-dozza-e-del-mu
 seo-della-rocca.html
DTSTART:20260224T170000Z
DTEND:20260224T190000Z
LOCATION:Rocca di Dozza (Piazzale Rocca\, 40060 Dozza BO\, Italia)
SUMMARY:PRESENTAZIONE DEL GEMELLO DIGITALE DEL BORGO DI DOZZA E DEL MUSEO D
 ELLA ROCCA
URL:https://www.fondazionedozza.it/programma-eventi/eventi-spettacoli-alla-
 rocca-di-dozza-2/Eventi/870-presentazione-del-gemello-digitale-del-borgo-d
 i-dozza-e-del-museo-della-rocca.html
END:VEVENT
END:VCALENDAR
