BEGIN:VCALENDAR
VERSION:2.0
PRODID:-//https://www.fondazionedozza.it///NONSGML kigkonsult.se iCalcreator 2.10.15//
METHOD:PUBLISH
BEGIN:VEVENT
UID:20260420T110343CEST-7161Wf4DOm@https://www.fondazionedozza.it/
DTSTAMP:20260420T090343Z
DESCRIPTION:SETTIMANA SANTA E PASQUA 2026\n\n&nbsp\;\n\n* Orari e programmi
  potranno subire variazioni per le quali occorre contattare il soggetto or
 ganizzatore. https://www.fondazionedozza.it/programma-eventi/eventi-spetta
 coli-alla-rocca-di-dozza-2/Eventi/881-settimana-santa-e-pasqua-2026.html
DTSTART:20260329T093000Z
DTEND:20260406T120000Z
LOCATION:Dozza (40060 Dozza BO\, Italia)
SUMMARY:SETTIMANA SANTA E PASQUA 2026
URL:https://www.fondazionedozza.it/programma-eventi/eventi-spettacoli-alla-
 rocca-di-dozza-2/Eventi/881-settimana-santa-e-pasqua-2026.html
END:VEVENT
END:VCALENDAR
