BEGIN:VCALENDAR
VERSION:2.0
PRODID:-//https://www.fondazionedozza.it///NONSGML kigkonsult.se iCalcreator 2.10.15//
METHOD:PUBLISH
BEGIN:VEVENT
UID:20260419T151225CEST-2358u8OjPh@https://www.fondazionedozza.it/
DTSTAMP:20260419T131225Z
DESCRIPTION:BIMBI AL MUSEO \nAuguri dal drago\nDomenica 8 dicembre 2024 ore
  16\nLa Fondazione Dozza Città d'Arte è lieta di invitarti al laboratorio 
 'Auguri dal drago' in cui il famoso drago Fyrstan che dorme nella torre sa
 rà coinvolto per preparare degli auguri di Natale davvero speciali.\nDescr
 izione del laborario:&nbsp\;il drago Fyrstan augura a tutti un buon Natale
  e lo fa con un bigliettino speciale!\nCosto: 7\,00 € a partecipante&nbsp\
 ;\nEtà consigliata: dai 5 anni in su\nPrenotazione obbligatoria: rocca@com
 une.dozza.bo.it&nbsp\;- 0542 678240.\n https://www.fondazionedozza.it/prog
 ramma-eventi/eventi-spettacoli-alla-rocca-di-dozza/Eventi/511-bimbi-al-mus
 eo-auguri-dal-drago.html
DTSTART:20241208T160000Z
DTEND:20241208T170000Z
LOCATION:Rocca di Dozza (Piazzale Rocca\, 40060 Dozza BO\, Italia)
SUMMARY:BIMBI AL MUSEO - Auguri dal drago
URL:https://www.fondazionedozza.it/programma-eventi/eventi-spettacoli-alla-
 rocca-di-dozza/Eventi/511-bimbi-al-museo-auguri-dal-drago.html
END:VEVENT
END:VCALENDAR
