BEGIN:VCALENDAR
VERSION:2.0
PRODID:-//https://www.fondazionedozza.it///NONSGML kigkonsult.se iCalcreator 2.10.15//
METHOD:PUBLISH
BEGIN:VEVENT
UID:20260425T205147CEST-5663xoXajC@https://www.fondazionedozza.it/
DTSTAMP:20260425T185147Z
DESCRIPTION:\n* Orari e programmi potranno subire variazioni per le quali o
 ccorre contattare il soggetto organizzatore.\n&nbsp\;\nGiorni e orari di a
 pertura:\nDal lunedì al sabato ore 10-13 e 14-18\nDomenica e festivi ore 1
 0-18*\n* Si avvisano i gentili visitatori che il Museo della Rocca di Dozz
 a resterà chiuso al pubblico nel pomeriggio del 24 dicembre\, nelle giorna
 te del 25 dicembre e del 31 dicembre e nella mattina del 1° gennaio.\nBigl
 ietto d'ingresso:\n\nINTERO&nbsp\;€ 7\,50&nbsp\;\nRIDOTTO € 6\,00 per:\n\n
 studente maggiorenne\ngruppi sopra 20 unità (a persona)\npossessore tesser
 a FAI - Fondo Ambiente Italiano\npossessore tessera&nbsp\;Touring Club Ita
 liano\npossessore tessera&nbsp\;Amici dei Borghi\n\n\nSCOLARESCHE&nbsp\;€ 
 2\,00 (a bambino)\nGRATUITO per:&nbsp\;\n\nunder 18\nresidente del Comune 
 Dozza\npossessore Card Cultura\ndisabile (nel caso di disabilità 100% anch
 e l'accompagnatore gode dell'ingresso gratuito)\nguida turistica con badge
 /tesserino\ngiornalista con badge/tesserino\n\n\n\nInformazioni utili:\n\n
 All'interno della Rocca di Dozza&nbsp\;non&nbsp\;sono ammessi animali.\nDu
 rata consigliata della visita:&nbsp\;un'ora.\nLa biglietteria della Rocca 
 di Dozza&nbsp\;chiude un'ora prima&nbsp\;dell'orario di chiusura del Museo
 .\n https://www.fondazionedozza.it/programma-eventi/eventi-spettacoli-alla
 -rocca-di-dozza/Eventi/662-natale-con-i-malvezzi-alla-rocca-di-dozza.html
DTSTART:20241207T110000Z
DTEND:20250106T170000Z
LOCATION:Dozza (40060 Dozza BO\, Italia)
SUMMARY:NATALE CON I MALVEZZI...ALLA ROCCA DI DOZZA
URL:https://www.fondazionedozza.it/programma-eventi/eventi-spettacoli-alla-
 rocca-di-dozza/Eventi/662-natale-con-i-malvezzi-alla-rocca-di-dozza.html
END:VEVENT
END:VCALENDAR
