BEGIN:VCALENDAR
VERSION:2.0
PRODID:-//https://www.fondazionedozza.it///NONSGML kigkonsult.se iCalcreator 2.10.15//
METHOD:PUBLISH
BEGIN:VEVENT
UID:20260422T111021CEST-8253HmUfSV@https://www.fondazionedozza.it/
DTSTAMP:20260422T091021Z
DESCRIPTION:STRADOZZA\nL'unica camminata delle super donne\nDomenica 9 marz
 o 2025\nRina e le sue amiche vi invitano alla XIII&nbsp\;STRADOZZA 'L'unic
 a camminata delle super donne'&nbsp\;che si svolgerà domenica 9 marzo 2025
 . La camminata è a scopo benefico.\nTutti i dettagli nel volantino:\n\n* O
 rari e programmi potranno subire variazioni per le quali occorre contattar
 e il soggetto organizzatore.\n&nbsp\; https://www.fondazionedozza.it/progr
 amma-eventi/eventi-spettacoli-alla-rocca-di-dozza/Eventi/724-stradozza.htm
 l
DTSTART:20250309T083000Z
DTEND:20250309T120000Z
LOCATION:Rocca di Dozza (Piazzale Rocca\, 40060 Dozza BO\, Italia)
SUMMARY:STRADOZZA
URL:https://www.fondazionedozza.it/programma-eventi/eventi-spettacoli-alla-
 rocca-di-dozza/Eventi/724-stradozza.html
END:VEVENT
END:VCALENDAR
