BEGIN:VCALENDAR
VERSION:2.0
PRODID:-//https://www.fondazionedozza.it///NONSGML kigkonsult.se iCalcreator 2.10.15//
METHOD:PUBLISH
BEGIN:VEVENT
UID:20260419T181225CEST-2379ucXNvs@https://www.fondazionedozza.it/
DTSTAMP:20260419T161225Z
DESCRIPTION:LE QUATTRO STAGIONI\nDomenica 7 dicembre 2025 ore 16\n\nLa Fond
 azione Dozza Città d'Arte è lieta di presentare un concerto&nbsp\;organizz
 ato dall'Associazione Musicale Dozzese APS\,&nbsp\;che&nbsp\;vedrà protago
 nisti nel Salone Maggiore del Museo della Rocca di Dozza due giovani violi
 nisti emergenti: Lodovico Parravicini e Mihail Ion\, affiancati dal più es
 perto Federico Parravicini\, docente di violino presso il conservatorio di
  Venezia. Il titolo dell'evento 'Le Quattro Stagioni' lascia intuire quale
  sarà il fulcro: i quattro capolavori composti da Antonio Vivaldi per viol
 ino solista e archi. A completamento del programma\, saranno eseguiti il C
 oncerto in la minore per due violini\, archi e basso continuo\, op. 3 n. 8
 &nbsp\; RV 522 sempre di Vivaldi e il Concerto in re minore per due violin
 i e orchestra BWV 1043 di Johan Sebastian Bach. I tre solisti saranno acco
 mpagnati dall'ensemble d'archi Cantinarmonica.\nIngresso ad offerta libera
  e&nbsp\;fino ad esaurimento posti. Consigliata la prenotazione: 0542 6782
 40 - rocca@comune.dozza.bo.it.\n\n\n* Orari e programmi potranno subire va
 riazioni per le quali occorre contattare il soggetto organizzatore. https:
 //www.fondazionedozza.it/programma-eventi/eventi-spettacoli-alla-rocca-di-
 dozza/Eventi/816-le-quattro-stagioni.html
DTSTART:20251207T160000Z
DTEND:20251207T173000Z
LOCATION:Rocca di Dozza (Piazzale Rocca\, 40060 Dozza BO\, Italia)
SUMMARY:LE QUATTRO STAGIONI
URL:https://www.fondazionedozza.it/programma-eventi/eventi-spettacoli-alla-
 rocca-di-dozza/Eventi/816-le-quattro-stagioni.html
END:VEVENT
END:VCALENDAR
