BEGIN:VCALENDAR
VERSION:2.0
PRODID:-//https://www.fondazionedozza.it///NONSGML kigkonsult.se iCalcreator 2.10.15//
METHOD:PUBLISH
BEGIN:VEVENT
UID:20260424T115642CEST-81501Ujbhn@https://www.fondazionedozza.it/
DTSTAMP:20260424T095642Z
DESCRIPTION:ABOUT HUMAN\nIl paesaggio interiore\nDal 31 gennaio al 10 maggi
 o 2026 al Museo Rocca di Dozza\n\nCOMUNICATO STAMPA\nLa Fondazione Dozza C
 ittà d'Arte è lieta di presentare 'ABOUT HUMAN. Il paesaggio interiore'\, 
 personale dell'artista _Emeid a cura di Agnese Tonelli.\n\n\nInaugurazione
  sabato 31 gennaio 2026 alle ore 17:00 con ingresso libero fino ad esaurim
 ento posti. \nPrenotazione consigliata:&nbsp\;rocca@comune.dozza.bo.it&nbs
 p\;- 0542 678240.\nDall'1 febbraio al 10 maggio 2026 la visita alla mostra
  è compresa nel biglietto d'ingresso del Museo.\nGIORNI E ORARI DI VISITA 
 ALLA MOSTRA\n&nbsp\;\nBreve descrizione della mostra:\nLa mostra espone un
 a selezione di opere pittoriche di Andrea Ranieri\, in arte _Emeid\, che s
 intetizzano il percorso e la ricerca dell’artista. Autore dell’opera mural
 e “Feste comandate” eseguita nel 2023 in occasione della XXIX Biennale del
  Muro Dipinto di Dozza\, _Emeid propone una riflessione sull’intimo umano.
  Tra le opere esposte\, oltre alle diverse tele realizzate ad acrilico e a
 d olio\, anche alcuni lavori su carta e una selezione di immagini fotograf
 iche dei murales realizzati a partire dagli anni 2000 sui muri di tante ci
 ttà d’Italia.\n&nbsp\;\nBio dell'artista:\nAndrea Ranieri\, in arte 'Emeid
 '\, è un artista autodidatta nato ad Augsburg (Germania) nel 1985. Nel 199
 6 si trasferisce in Italia\, nella cittadina abruzzese di Ortona (CH) dove
  attualmente vive e lavora. Numerose sono le opere realizzate sui muri in 
 diverse città italiane. Nel 2016 vince il premio 'Ritratti Contemporanei' 
 presso il Museo Cascella di Pescara\, con l'opera dal titolo 'Porta Pazien
 za' in cui sviluppa la tematica dell'uomo in rapporto alla società. Espone
  in molteplici mostre collettive e personali e in numerose location privat
 e. Partecipa in modalità 'live painting' a diversi eventi artistici. Nel 2
 015 apre il suo studio nella zona Terravecchia di Ortona (CH) e nel luglio
  2016 è promotore dell'evento pittorico 'Orme d'Arte'\, che si svolge ogni
  anno nel mese di luglio nel centro storico di Ortona e che vede la partec
 ipazione di numerosi artisti&nbsp\;chiamati a dipingere. Nel 2022 è stato 
 presente nella Galleria Heart a Teramo con la sua personale dal titolo 'Sc
 elte Vuote'. Lavora costantemente alla ricerca di nuove idee che speriment
 a quotidianamente nei suoi lavori.&nbsp\;\n\n* Orari e programmi potranno 
 subire variazioni per le quali occorre contattare il soggetto organizzator
 e. https://www.fondazionedozza.it/programma-eventi/eventi-spettacoli-alla-
 rocca-di-dozza/Eventi/857-about-human-il-paesaggio-interiore.html
DTSTART:20260131T170000Z
DTEND:20260510T190000Z
LOCATION:Rocca di Dozza (Piazzale Rocca\, 40060 Dozza BO\, Italia)
SUMMARY:ABOUT HUMAN. Il paesaggio interiore
URL:https://www.fondazionedozza.it/programma-eventi/eventi-spettacoli-alla-
 rocca-di-dozza/Eventi/857-about-human-il-paesaggio-interiore.html
END:VEVENT
END:VCALENDAR
