BEGIN:VCALENDAR
VERSION:2.0
PRODID:-//https://www.fondazionedozza.it///NONSGML kigkonsult.se iCalcreator 2.10.15//
METHOD:PUBLISH
BEGIN:VEVENT
UID:20260421T071220CEST-9555U6JPSP@https://www.fondazionedozza.it/
DTSTAMP:20260421T051220Z
DESCRIPTION:POSTI ESAURITI!!!\nTRA VALZER E BRUGHIERA\nUn pomeriggio con le
  sorelle Brontë\nDomenica 8 marzo 2026 alle ore 15:30 presso il Museo Rocc
 a di Dozza\n\nLa Fondazione Dozza Città d'Arte è lieta di presentare 'TRA 
 VALZER E BRUGHIERA. Un pomeriggio con le sorelle Brontë'\, evento di balli
 \, letture e degustazione di tè e biscotti aperto alla cittadinanza presso
  il Museo Rocca di Dozza.&nbsp\;\nINGRESSO LIBERO FINO AD ESAURIMENTO POST
 I.&nbsp\;POSTI ESAURITI!!!\nCONSIGLIATA LA PRENOTAZIONE: 0542 678240 - roc
 ca@comune.dozza.bo.it.\n\n&nbsp\;\n\n* Orari e programmi potranno subire v
 ariazioni per le quali occorre contattare il soggetto organizzatore. https
 ://www.fondazionedozza.it/programma-eventi/eventi-spettacoli-alla-rocca-di
 -dozza/Eventi/871-tra-valzer-e-brughiera-un-pomeriggio-con-le-sorelle-bron
 te.html
DTSTART:20260308T153000Z
DTEND:20260308T173000Z
LOCATION:Rocca di Dozza (Piazzale Rocca\, 40060 Dozza BO\, Italia)
SUMMARY:TRA VALZER E BRUGHIERA. Un pomeriggio con le sorelle Brontë
URL:https://www.fondazionedozza.it/programma-eventi/eventi-spettacoli-alla-
 rocca-di-dozza/Eventi/871-tra-valzer-e-brughiera-un-pomeriggio-con-le-sore
 lle-bronte.html
END:VEVENT
END:VCALENDAR
