BEGIN:VCALENDAR
VERSION:2.0
PRODID:-//https://www.fondazionedozza.it///NONSGML kigkonsult.se iCalcreator 2.10.15//
METHOD:PUBLISH
BEGIN:VEVENT
UID:20260421T112017CEST-3784uv4WUO@https://www.fondazionedozza.it/
DTSTAMP:20260421T092017Z
DESCRIPTION:ARMONIA IN GRIGIO ET IN SILENZIO&nbsp\;\nDal 28 marzo al 12 lug
 lio presso il Museo Rocca di Dozza\n\nCOMUNICATO STAMPA\nLa Fondazione Doz
 za Città d'Arte è lieta di presentare 'ARMONIA IN GRIGIO ET IN SILENZIO'\,
  personale dell'artista Andrea Salvatori a cura di Agnese Tonelli.\n\n\nIn
 augurazione sabato 28 marzo 2026 alle ore 17:00 con ingresso libero fino a
 d esaurimento posti.\nPrenotazione consigliata:&nbsp\;rocca@comune.dozza.b
 o.it&nbsp\;- 0542 678240.\nDal 29 marzo al 12 luglio 2026 la visita alla m
 ostra è compresa nel biglietto d'ingresso del Museo.\nGIORNI E ORARI DI VI
 SITA ALLA MOSTRA\n\n&nbsp\;\nBreve descrizione della mostra:\n\nLa mostra 
 presenta una selezione di opere ceramiche che testimoniano la ricerca dell
 ’artista intorno all’elemento della roccia. Collocate nelle sale arredate 
 del Museo\, le opere instaurano un dialogo diretto con gli ambienti storic
 i\, creando un ponte tra passato e presente\, tra antico e contemporaneo. 
 Il sottile umorismo che caratterizza il lavoro di Andrea Salvatori emerge 
 fin dal titolo della mostra\, Armonia in grigio et in silenzio\, che invit
 a il visitatore a una riflessione discreta su ciò che\, nella quotidianità
 \, percepiamo come realmente pesante o leggero. Nella Sala Armi del Museo 
 è stata realizzata l’installazione site specific Puro e disposto a salire 
 a le stelle\, accompagnata da un testo critico dello storico dell’arte Enr
 ico Maria Davoli. In occasione della mostra è stato inoltre realizzato Cer
 te Cose\, un libro d’artista che raccoglie alcune fotografie delle opere d
 i Salvatori ambientate nello studio dell’artista\, insieme a uno scatto de
 ll’installazione site specific realizzata nella Sala Armi del Museo. Le fo
 tografie sono di Luca Nostri. Il libro sarà disponibile durante la mostra 
 presso il bookshop del Museo.\n\nBio dell'artista:\nAndrea Salvatori (Faen
 za\, 1975) è riconosciuto fra i più importanti artisti italiani contempora
 nei. Dopo il diploma di Maestro d'Arte all'Istituto per la Ceramica Ballar
 dini di Faenza\, ha frequentato l'Accademia di Belle Arti di Bologna. Cera
 mista apprezzato per la qualità e l'ironia delle sue elegantissime scultur
 e\, nel 2009 ha vinto il Premio Faenza e ad oggi vanta numerose esposizion
 i in prestigiosi contesti nazionali e internazionali\, fra cui si ricordan
 o: Mart\, Rovereto\, Casa Museo Jorn\, Albissola Marina\, Museo d'Arte di 
 Palazzo Gavotti e Complesso della Cattedrale di Savona\, Fondazione Giorgi
 o Cini\, Venezia\; Museo Civico d'Arte Industriale e Galleria Davia Bargel
 lini\, Bologna\; Museo Civico Gaetano Filangieri\, Napoli\; Galleria Comun
 ale d'Arte\, Faenza\; Museo Internazionale Design Ceramico\, Laveno Mombel
 lo\; Biennale de la Céramique d'Andenne (E)\; Gyeonggi Ceramic Biennale (K
 R)\; XXIII Biennale Internationale Creation Contemporaine et Ceramique\, V
 allauris (F). Da sempre interessato alla manipolazione delle immagini – tr
 a storia dell’arte passata e presente\, cultura popolare e kitsch – Salvat
 ori ha sviluppato un linguaggio autonomo nella creazione di sculture in ce
 ramica dall’elevata carica concettuale\, ironica e spesso dissacrante. Rea
 lizza le proprie opere modificando oggetti già esistenti (opere d'arte o d
 i alto artigianato\, ma anche comuni oggetti industriali) e innestandoli i
 n forme complesse o modulari di sua invenzione\, spesso in relazione ad am
 bienti storici e architetture connotate.\n&nbsp\;\n* Orari e programmi pot
 ranno subire variazioni per le quali occorre contattare il soggetto organi
 zzatore. https://www.fondazionedozza.it/programma-eventi/eventi-spettacoli
 -alla-rocca-di-dozza/Eventi/872-armonia-in-grigio-et-in-silenzio.html
DTSTART:20260328T170000Z
DTEND:20260712T190000Z
LOCATION:Rocca di Dozza (Piazzale Rocca\, 40060 Dozza BO\, Italia)
SUMMARY:ARMONIA IN GRIGIO ET IN SILENZIO
URL:https://www.fondazionedozza.it/programma-eventi/eventi-spettacoli-alla-
 rocca-di-dozza/Eventi/872-armonia-in-grigio-et-in-silenzio.html
END:VEVENT
END:VCALENDAR
