BEGIN:VCALENDAR
VERSION:2.0
PRODID:-//https://www.fondazionedozza.it///NONSGML kigkonsult.se iCalcreator 2.10.15//
METHOD:PUBLISH
BEGIN:VEVENT
UID:20260421T070248CEST-2292UFnW5O@https://www.fondazionedozza.it/
DTSTAMP:20260421T050248Z
DESCRIPTION:NUOVA STRADOZZA\nDomenica 8 marzo 2026 alle ore 09:30 da Piazza
  Zotti a Dozza\n\nLa Pro Loco di Dozza APS è lieta di presentare la 'NUOVA
  STRADOZZA'\, camminata delle donne.\nPartenza: ore 9:30 da piazza Zotti 
 \nArrivo: parco donatori di sangue vicino centro polivalente 'Sara Piffer'
  \nIl ricavato sarà destinato alla copertura del costo del mammografo per 
 la Casa della Comunità di Castel San Pietro Terme.\nInfo:&nbsp\;prolocodoz
 za@gmail.com\n\n\n* Orari e programmi potranno subire variazioni per le qu
 ali occorre contattare il soggetto organizzatore. https://www.fondazionedo
 zza.it/programma-eventi/eventi-spettacoli-alla-rocca-di-dozza/Eventi/877-n
 uova-stradozza.html
DTSTART:20260308T093000Z
DTEND:20260308T113000Z
LOCATION:Comune di Dozza (Piazza Zotti)
SUMMARY:NUOVA STRADOZZA
URL:https://www.fondazionedozza.it/programma-eventi/eventi-spettacoli-alla-
 rocca-di-dozza/Eventi/877-nuova-stradozza.html
END:VEVENT
END:VCALENDAR
