BEGIN:VCALENDAR
VERSION:2.0
PRODID:-//https://www.fondazionedozza.it///NONSGML kigkonsult.se iCalcreator 2.10.15//
METHOD:PUBLISH
BEGIN:VEVENT
UID:20260425T173034CEST-9916bPL211@https://www.fondazionedozza.it/
DTSTAMP:20260425T153034Z
DESCRIPTION:BALLO DEI VAMPIRI\nSabato 6 giugno 2026 dalle ore 18 alle ore 2
 3 presso il Museo Rocca di Dozza\n\nLa Fondazione Dozza Città d'Arte è lie
 ta di presentare 'BALLO DEI VAMPIRI' in collaborazione con VampireLab. \nD
 ettagli dell'evento:\n&nbsp\;\n\n\n\nBALLO DEI VAMPIRI\nSabato 6 giugno 20
 26 dalle ore&nbsp\;18:00 alle ore 23:00\nMuseo Rocca di Dozza (BO)\n&nbsp\
 ;\n\n\nPreparati a varcare la soglia dell’oscurità con un evento unico\, t
 ra atmosfere gotiche e suggestioni senza tempo.\n&nbsp\;\nProgramma della 
 serata:\n\nviaggio nell'oscurità: presentazione del volume 'Dracula' illus
 trato da Paolo Barbieri. L'autore dialoga con Lisa Emiliani&nbsp\;(Sergio 
 Bonelli Editore\, 2025)\napericena gotico\nballo dei Vampiri a cura del gr
 uppo VampireLab di Lisa Lambertini\nalla ricerca degli Immortali tra le om
 bre della Rocca al calar della sera\n\n&nbsp\;\n\n\nCosto: 35€ a persona\n
 Posti limitati – prenotazione obbligatoria\n\n\nInfo e prenotazioni:\nrocc
 a@comune.dozza.bo.it | 0542 678240\nwww.fondazionedozza.it\nLa prenotazion
 e sarà considerata confermata esclusivamente dopo la ricezione dell’email 
 di conferma da parte dell’organizzazione.\n&nbsp\;\n\n\nInformazioni utili
 :\n\nritrovo alle ore 17:30 presso la biglietteria del Museo Rocca di Dozz
 a\n\n\nil biglietto d’ingresso include tutte le attività in programma (non
  è possibile partecipare a singole iniziative)\n\n\nin fase di prenotazion
 e\, occorre segnalare eventuali allergie\, intolleranze o esigenze aliment
 ari\n\n\nevento consigliato dai 16 anni in su\n\n\ndress code consigliato
 \n\n\npossibilità di scattare fotografie insieme ai vampiri\n\n\n&nbsp\;\n
 \n&nbsp\;\n\n* Orari e programmi potranno subire variazioni per le quali o
 ccorre contattare il soggetto organizzatore. https://www.fondazionedozza.i
 t/programma-eventi/eventi-spettacoli-alla-rocca-di-dozza/Eventi/896-ballo-
 dei-vampiri.html
DTSTART:20260606T180000Z
DTEND:20260606T230000Z
LOCATION:Rocca di Dozza (Piazzale Rocca\, 40060 Dozza BO\, Italia)
SUMMARY:BALLO DEI VAMPIRI
URL:https://www.fondazionedozza.it/programma-eventi/eventi-spettacoli-alla-
 rocca-di-dozza/Eventi/896-ballo-dei-vampiri.html
END:VEVENT
END:VCALENDAR
